BEGIN:VCALENDAR
VERSION:2.0
PRODID:-//Biblioteca - ECPv6.15.20//NONSGML v1.0//EN
CALSCALE:GREGORIAN
METHOD:PUBLISH
X-WR-CALNAME:Biblioteca
X-ORIGINAL-URL:https://bibliotecas.uabc.mx
X-WR-CALDESC:Eventos para Biblioteca
REFRESH-INTERVAL;VALUE=DURATION:PT1H
X-Robots-Tag:noindex
X-PUBLISHED-TTL:PT1H
BEGIN:VTIMEZONE
TZID:America/Los_Angeles
BEGIN:DAYLIGHT
TZOFFSETFROM:-0800
TZOFFSETTO:-0700
TZNAME:PDT
DTSTART:20240310T100000
END:DAYLIGHT
BEGIN:STANDARD
TZOFFSETFROM:-0700
TZOFFSETTO:-0800
TZNAME:PST
DTSTART:20241103T090000
END:STANDARD
BEGIN:DAYLIGHT
TZOFFSETFROM:-0800
TZOFFSETTO:-0700
TZNAME:PDT
DTSTART:20250309T100000
END:DAYLIGHT
BEGIN:STANDARD
TZOFFSETFROM:-0700
TZOFFSETTO:-0800
TZNAME:PST
DTSTART:20251102T090000
END:STANDARD
BEGIN:DAYLIGHT
TZOFFSETFROM:-0800
TZOFFSETTO:-0700
TZNAME:PDT
DTSTART:20260308T100000
END:DAYLIGHT
BEGIN:STANDARD
TZOFFSETFROM:-0700
TZOFFSETTO:-0800
TZNAME:PST
DTSTART:20261101T090000
END:STANDARD
END:VTIMEZONE
BEGIN:VEVENT
DTSTART;TZID=America/Los_Angeles:20250221T110000
DTEND;TZID=America/Los_Angeles:20250221T120000
DTSTAMP:20260419T114616
CREATED:20250204T214333Z
LAST-MODIFIED:20250204T214333Z
UID:14769-1740135600-1740139200@bibliotecas.uabc.mx
SUMMARY:Capacitación Introducción a la Plataforma eLibro
DESCRIPTION:🎯Objetivo: Capacitar a los estudiantes de nuevo ingreso en el uso de la plataforma e-Libro\, permitiéndoles acceder de manera eficiente a una amplia variedad de recursos digitales y libros electrónicos\, facilitando su proceso de investigación académica y mejorando su rendimiento académico desde el inicio de su formación universitaria. \nDirigido a: Miembros de la comunidad UABC interesados en el manejo de esta plataforma. \nUrl: https://us02web.zoom.us/j/82424247643 \nCódigo de acceso: 647560
URL:https://bibliotecas.uabc.mx/event/capacitacion-introduccion-a-la-plataforma-elibro/
LOCATION:Plataforma Virtual Zoom Bibliotecas\, Baja California\, 21100\, Mexico
ORGANIZER;CN="Coordinaci%C3%B3n General de Inform%C3%A1tica y Bibliotecas":MAILTO:dsb.soporte@uabc.edu.mx
END:VEVENT
END:VCALENDAR