BEGIN:VCALENDAR
VERSION:2.0
PRODID:-//Biblioteca - ECPv6.15.20//NONSGML v1.0//EN
CALSCALE:GREGORIAN
METHOD:PUBLISH
X-WR-CALNAME:Biblioteca
X-ORIGINAL-URL:https://bibliotecas.uabc.mx
X-WR-CALDESC:Eventos para Biblioteca
REFRESH-INTERVAL;VALUE=DURATION:PT1H
X-Robots-Tag:noindex
X-PUBLISHED-TTL:PT1H
BEGIN:VTIMEZONE
TZID:America/Los_Angeles
BEGIN:DAYLIGHT
TZOFFSETFROM:-0800
TZOFFSETTO:-0700
TZNAME:PDT
DTSTART:20240310T100000
END:DAYLIGHT
BEGIN:STANDARD
TZOFFSETFROM:-0700
TZOFFSETTO:-0800
TZNAME:PST
DTSTART:20241103T090000
END:STANDARD
BEGIN:DAYLIGHT
TZOFFSETFROM:-0800
TZOFFSETTO:-0700
TZNAME:PDT
DTSTART:20250309T100000
END:DAYLIGHT
BEGIN:STANDARD
TZOFFSETFROM:-0700
TZOFFSETTO:-0800
TZNAME:PST
DTSTART:20251102T090000
END:STANDARD
BEGIN:DAYLIGHT
TZOFFSETFROM:-0800
TZOFFSETTO:-0700
TZNAME:PDT
DTSTART:20260308T100000
END:DAYLIGHT
BEGIN:STANDARD
TZOFFSETFROM:-0700
TZOFFSETTO:-0800
TZNAME:PST
DTSTART:20261101T090000
END:STANDARD
END:VTIMEZONE
BEGIN:VEVENT
DTSTART;TZID=America/Los_Angeles:20250225T170000
DTEND;TZID=America/Los_Angeles:20250225T180000
DTSTAMP:20260419T114556
CREATED:20250211T002902Z
LAST-MODIFIED:20250211T002902Z
UID:14817-1740502800-1740506400@bibliotecas.uabc.mx
SUMMARY:Lectura y meditación-Biblioteca Central Mexicali
DESCRIPTION:Lectura Grupal \nLa lectura en voz alta nos ayuda a desarrollar confianza y mejorar nuestro estilo al hablar en público. \nLa meditación es una práctica que aporta múltiples beneficios para la salud mental y física. \n📅 Martes 25 de febrero⏰ 17:00 horas📍 Sala de lectura \n🍵 Habrá té de cortesía. ¡Te esperamos!
URL:https://bibliotecas.uabc.mx/event/lectura-y-meditacion-biblioteca-central-mexicali-2/
LOCATION:Sala de Lectura Biblioteca Central Mexicali\, Mexicali\, Baja California
END:VEVENT
END:VCALENDAR